BEGIN:VCALENDAR
VERSION:2.0
PRODID:-//ChamberMaster//Event Calendar 2.0//EN
METHOD:PUBLISH
X-PUBLISHED-TTL:P3D
REFRESH-INTERVAL:P3D
CALSCALE:GREGORIAN
BEGIN:VEVENT
DTSTART:20080723T220000Z
DTEND:20080723T230000Z
X-MICROSOFT-CDO-ALLDAYEVENT:FALSE
SUMMARY:BAH - Batavia Enterprises\, Inc.
DESCRIPTION:It's summer…it's hot…it's been a long day and you are ready for a nice\,cool break. Perfect! Come join the Chamber and Batavia Enterprises for a Mid-Summer Cooler and help us welcome  their long time client\, R. Bach &Associates at their new - yet historic - facility at 111 Union Avenue (directly across from the Quarry!). We'll have some light snacks and beverages.
X-ALT-DESC;FMTTYPE=text/html:It's summer…it's hot…it's been a long day and you are ready for a nice\,cool break. Perfect! Come join the Chamber and Batavia Enterprises for a Mid-Summer Cooler and help us welcome  their long time client\, R. Bach &Associates at their new - yet historic - facility at 111 Union Avenue (directly across from the Quarry!). We'll have some light snacks and beverages.
LOCATION:R. Bach & Associates
UID:e.1902.1203
SEQUENCE:3
DTSTAMP:20260422T131535Z
URL:http://business.bataviachamber.org/events/details/bah-batavia-enterprises-inc-07-23-2008-1203
END:VEVENT

END:VCALENDAR
