BEGIN:VCALENDAR
VERSION:2.0
PRODID:-//ChamberMaster//Event Calendar 2.0//EN
METHOD:PUBLISH
X-PUBLISHED-TTL:P3D
REFRESH-INTERVAL:P3D
CALSCALE:GREGORIAN
BEGIN:VEVENT
DTSTART:20100318T130000Z
DTEND:20100318T150000Z
X-MICROSOFT-CDO-ALLDAYEVENT:FALSE
SUMMARY:Avoiding the Pitfalls of Employment Law
DESCRIPTION:Are you prepared to avoid the pitfalls of Employment law? Did you know there have been many changes and lawsuits are on the rise?Join us for this very important and practical presentation by Jon Hoag of Wessels Sherman\, perhaps the top employment law firm in the state. He will provide an employment law update covering recent changes and some of the pending changes in the legal HR arena. Learn practical tips and best practices for handling or adapting to the changes in the law. The primary areas of discussion will be the FMLA\, ADA\, privacy concerns related to social networking (and other technologies)\, sexual harassment claims\, legal issues with hiring/firing\, wage & hour issues\, and unionization.There will be plenty of time for questions & answers so be sure to bring the issues that concern you!
X-ALT-DESC;FMTTYPE=text/html:<P align=left><FONT color=#0000ff size=4>Are you prepared to avoid the pitfalls of Employment law? Did you know there have been many changes&nbsp\;<STRONG><EM>and lawsuits&nbsp\;are on the rise?</EM></STRONG></FONT></P><P align=left><FONT size=4><FONT color=#0000ff>Join us for this very important and practical&nbsp\;presentation by Jon Hoag of Wessels Sherman\, perhaps the top employment law firm in the state. He will p</FONT><FONT color=#0000ff>rovide an employment law update&nbsp\;covering recent changes and some of the pending changes in the legal HR arena.&nbsp\;Learn&nbsp\;practical tips and&nbsp\;best practices for handling or adapting to the changes in the law.&nbsp\;The primary areas of discussion will be the FMLA\, ADA\, privacy concerns related to social networking (and other technologies)\, sexual harassment claims\, legal issues with hiring/firing\, wage &amp\; hour issues\, and unionization.</FONT></FONT></P><P align=left><FONT color=#0000ff size=4>There will be&nbsp\;plenty of time for questions &amp\; answers so be sure to bring the issues that concern you!</FONT></P>
LOCATION:Hampton Inn & Suites St. Charles
UID:e.1902.1827
SEQUENCE:3
DTSTAMP:20260421T023008Z
URL:http://business.bataviachamber.org/events/details/avoiding-the-pitfalls-of-employment-law-03-18-2010-1827
END:VEVENT

END:VCALENDAR
