BEGIN:VCALENDAR
VERSION:2.0
PRODID:-//ChamberMaster//Event Calendar 2.0//EN
METHOD:PUBLISH
X-PUBLISHED-TTL:P3D
REFRESH-INTERVAL:P3D
CALSCALE:GREGORIAN
BEGIN:VEVENT
DTSTART:20250314T003000Z
DTEND:20250314T020000Z
X-MICROSOFT-CDO-ALLDAYEVENT:FALSE
SUMMARY:Anthony Robustiano Stand Up Comedy
DESCRIPTION:Anthony Robustiano is a high-energy and dynamic stand-up comedian and actor known for his infectious energy\, millennial relatability\, and vibrant storytelling.  Originally from New York\, Anthony has emerged as a social media star in 2024\, amassing nearly two million followers and over 40 million likes across platforms. Now based in Vermont\, he skillfully juggles his emerging comedy career with co-managing the family-owned business\, Robo Creemees & General Store alongside his parents. His devoted fans eagerly make the journey to the store and follow his performances across many cities. He is bringing his charismatic personality and his must-see humor comedy in his upcoming tour.
X-ALT-DESC;FMTTYPE=text/html:Anthony Robustiano is a high-energy and dynamic stand-up comedian and actor known for his infectious energy\, millennial relatability\, and vibrant storytelling.&nbsp\; Originally from New York\, Anthony has emerged as a social media star in 2024\, amassing nearly two million followers and over 40 million likes across platforms. Now based in Vermont\, he skillfully juggles his emerging comedy career with co-managing the family-owned business\, Robo Creemees &amp\; General Store alongside his parents. His devoted fans eagerly make the journey to the store and follow his performances across many cities. He is bringing his charismatic personality and his must-see humor comedy in his upcoming tour.
LOCATION:The Comedy Vault 18 E. Wilson Street Batavia\, IL 60510
UID:e.1902.26812
SEQUENCE:3
DTSTAMP:20260422T131301Z
URL:http://business.bataviachamber.org/events/details/anthony-robustiano-stand-up-comedy-26812
END:VEVENT

END:VCALENDAR
