BEGIN:VCALENDAR
VERSION:2.0
PRODID:-//ChamberMaster//Event Calendar 2.0//EN
METHOD:PUBLISH
X-PUBLISHED-TTL:P3D
REFRESH-INTERVAL:P3D
CALSCALE:GREGORIAN
BEGIN:VEVENT
DTSTART:20081104T140000Z
DTEND:20081104T150000Z
X-MICROSOFT-CDO-ALLDAYEVENT:FALSE
SUMMARY:''An Elevator Speech to Take Your Business to the Penthouse''
DESCRIPTION:When someone asks about your business\, do you hesitate or wish you had a catchy response? Yours truly\, the Executive Director of the Batavia Chamber\, will talk about that infamous "Elevator Speech." Join us on this elevator for success. The meeting takes place on Tuesday\, November 4 from 8:00 to 9:00 AM at Panera Bread in Batavia. I promise we'll have fun with this one...and you just might feel more confident next time you are asked to describe your business.
X-ALT-DESC;FMTTYPE=text/html:<DIV style="FONT-FAMILY: Arial" align=left><FONT color=#0000ff size=4>When someone asks about your business\, do you hesitate or wish you had a catchy response? Yours truly\, the Executive Director of the Batavia Chamber\, will talk about that infamous "Elevator Speech." Join us on this elevator for success. The meeting takes place on Tuesday\, November 4 from 8:00 to 9:00 AM at Panera Bread in Batavia. I promise we'll have fun with this one...and you just might feel more confident next time you are asked to describe your business.</FONT></DIV>
LOCATION:Panera Bread
UID:e.1902.1602
SEQUENCE:3
DTSTAMP:20260422T063436Z
URL:http://business.bataviachamber.org/events/details/an-elevator-speech-to-take-your-business-to-the-penthouse-11-04-2008-1602
END:VEVENT

END:VCALENDAR
