BEGIN:VCALENDAR
VERSION:2.0
PRODID:-//ChamberMaster//Event Calendar 2.0//EN
METHOD:PUBLISH
X-PUBLISHED-TTL:P3D
REFRESH-INTERVAL:P3D
CALSCALE:GREGORIAN
BEGIN:VEVENT
DTSTART:20250621T050000Z
DTEND:20250621T050000Z
X-MICROSOFT-CDO-ALLDAYEVENT:FALSE
SUMMARY:An Afternoon of Music\, Poetry and Stories with Jonathan Jackson
DESCRIPTION:Join Jonathan Jackson\, musician\, actor\, author and filmmaker for an afternoon of live music\, poetry\, and stories Live on Stage at The Comedy Vault. Jonathan\, best known for his role as "Lucky Spencer" on General Hospital and "Avery Barkley" on the drama series Nashville\, brings his talents to the stage to engage with his fans in an intimate show with songs from Nashville\, music from his new album\, original poetry\, and behind the scenes stories. There will also be time for a Q&A session!\n\n \n\nGet a VIP ticket for a post show meet and greet with photos and autographs and preferred seating(closer to the stage).
X-ALT-DESC;FMTTYPE=text/html:<p>Join Jonathan Jackson\, musician\, actor\, author and filmmaker for an afternoon of live music\, poetry\, and stories Live on Stage at The Comedy Vault. Jonathan\, best known for his role as &ldquo\;Lucky Spencer&rdquo\; on General Hospital and &ldquo\;Avery Barkley&rdquo\; on the drama series Nashville\, brings his talents to the stage to engage with his fans in an intimate show with songs from Nashville\, music from his new album\, original poetry\, and behind the scenes stories. There will also be time for a Q&amp\;A session!</p>\n\n<p>&nbsp\;</p>\n\n<p>Get a VIP ticket for a post show meet and greet with photos and autographs and preferred seating(closer to the stage).</p>\n\n<div>&nbsp\;</div>\n\n<p>&nbsp\;</p>\n\n<p>&nbsp\;</p>\n\n<p>&nbsp\;</p>\n
LOCATION:The Comedy Vault 18 E. Wilson Street Batavia\, IL 60510
UID:e.1902.29354
SEQUENCE:3
DTSTAMP:20260422T083538Z
URL:http://business.bataviachamber.org/events/details/an-afternoon-of-music-poetry-and-stories-with-jonathan-jackson-29354
END:VEVENT

END:VCALENDAR
