BEGIN:VCALENDAR
VERSION:2.0
PRODID:-//ChamberMaster//Event Calendar 2.0//EN
METHOD:PUBLISH
X-PUBLISHED-TTL:P3D
REFRESH-INTERVAL:P3D
CALSCALE:GREGORIAN
BEGIN:VEVENT
DTSTART:20170719T000000Z
DTEND:20170719T010000Z
X-MICROSOFT-CDO-ALLDAYEVENT:FALSE
SUMMARY:American English Live in Concert on July 18
DESCRIPTION:Don't miss a dazzling performance by The Beatles cover band American English on Tuesday\, July 18 at 7:00 p.m. at The Holmstad\, a faith-based\, not-for-profit continuing care retirement community. Voted Illinois Entertainer of the Year\, the best tribute band in Chicagoland\, and the No. 1 tribute band at Beatlefest \, American English will perform classic songs from The Beatles' early albums\, including "A Hard Day's Night\," "Sgt. Pepper's Lonely Heart Club Band\," and "Abbey Road." Space is limited\, and registration is required by calling 877-226-7310 or visiting www.TheHolmstad.org. The Holmstad is located at 700 W. Fabyan Parkway\, Batavia.
X-ALT-DESC;FMTTYPE=text/html:Don&rsquo\;t miss a dazzling performance by The Beatles cover band American English on Tuesday\, July 18 at 7:00 p.m. at The Holmstad\, a faith-based\, not-for-profit continuing care retirement community. Voted Illinois Entertainer of the Year\, the best tribute band in Chicagoland\, and the No. 1 tribute band at Beatlefest&reg\;\, American English will perform classic songs from The Beatles&#39\; early albums\, including &ldquo\;A Hard Day&rsquo\;s Night\,&quot\; &ldquo\;Sgt. Pepper&rsquo\;s Lonely Heart Club Band\,&rdquo\; and &ldquo\;Abbey Road.&rdquo\; Space is limited\, and registration is required by calling 877-226-7310 or visiting www.TheHolmstad.org. The Holmstad is located at 700 W. Fabyan Parkway\, Batavia.
LOCATION:The Holmstad\, 700 W. Fabyan Parkway\, Batavia.
UID:e.1902.6697
SEQUENCE:3
DTSTAMP:20260422T063744Z
URL:http://business.bataviachamber.org/events/details/american-english-live-in-concert-on-july-18-6697
END:VEVENT

END:VCALENDAR
