BEGIN:VCALENDAR
VERSION:2.0
PRODID:-//ChamberMaster//Event Calendar 2.0//EN
METHOD:PUBLISH
X-PUBLISHED-TTL:P3D
REFRESH-INTERVAL:P3D
CALSCALE:GREGORIAN
BEGIN:VEVENT
DTSTART;VALUE=DATE:20250411
DTEND;VALUE=DATE:20250412
TRANSP:TRANSPARENT
X-MICROSOFT-CDO-ALLDAYEVENT:TRUE
SUMMARY:All You Can Eat Fish Fry at Prairie Landing Golf Club
DESCRIPTION:All You Can Eat Fish Fry in McChesney's Pub & Grill each Friday starting Friday\, March 7 - Friday\, April 18. Call 630.208.7600 x3 to make reservations. \n\n$24 Includes: All You Can Eat Beer Battered Fried or Broiled Cod with French Fries\, Tartar Sauce\, Hush Puppies\, and Coleslaw\n\n$20   For only one plate (no refills)\n\nAdditional Limited Menu Items\n\nCarry out Available (All You Can Eat is dine-in only)
X-ALT-DESC;FMTTYPE=text/html:<p style="margin-left:0px\; margin-right:0px">All You Can Eat Fish Fry in McChesney&rsquo\;s Pub &amp\; Grill each Friday starting Friday\, March 7 - Friday\, April 18. Call 630.208.7600 x3 to make reservations.&nbsp\;</p>\n\n<p style="margin-left:0px\; margin-right:0px"><span style="font-size:18px">$24 Includes:</span><span style="font-size:18px">&nbsp\;All You Can Eat Beer Battered Fried or Broiled Cod with French Fries\, Tartar Sauce\, Hush Puppies\, and Coleslaw<br />\n$20 &ndash\; For only one plate (no refills)</span></p>\n\n<p style="margin-left:0px\; margin-right:0px">Additional Limited Menu Items<br />\nCarry out Available (All You Can Eat is dine-in only)</p>\n
LOCATION:Prairie Landing Golf Club 2325 Longest Drive West Chicago\, IL 60185
UID:e.1902.29327
SEQUENCE:3
DTSTAMP:20260422T114513Z
URL:http://business.bataviachamber.org/events/details/all-you-can-eat-fish-fry-at-prairie-landing-golf-club-04-11-2025-29327
END:VEVENT

END:VCALENDAR
