BEGIN:VCALENDAR
VERSION:2.0
PRODID:-//ChamberMaster//Event Calendar 2.0//EN
METHOD:PUBLISH
X-PUBLISHED-TTL:P3D
REFRESH-INTERVAL:P3D
CALSCALE:GREGORIAN
BEGIN:VEVENT
DTSTART:20250507T150000Z
DTEND:20250507T190000Z
X-MICROSOFT-CDO-ALLDAYEVENT:FALSE
SUMMARY:AID HIRING EVENT
DESCRIPTION:Hiring Event\n\nAssociation for Individual Development\n\n Location: 309 New Indian Trail Court. Aurora\, IL 60506\n\n\n\nDate: May 07\, 2025\, 10:00am - 2:00pm\n\n\n\nLooking for your next career opportunity? Don't miss out! \n\n\n\nWe are excited to meet talented individuals like YOU!\n\n\n\nLooking to start a new career\, or an internship\, or taking the next step in your journey\, we offer the perfect opportunity to connect with our team. \n\n\n\nWhat's In It For You?\n\n\n\n Full-time & Part-time Jobs\n\n\n\n Internship Opportunities\n\n\n\n Career growth & development\n\n\n\nSecure your spot and let us know you're coming:\n\n\n\nPreregister at the link on our website in the "Apply Now" section.\n\n\n\nCome prepared with your resume and any questions regarding opportunities available.\n\n\n\nWe can't wait to meet you!
X-ALT-DESC;FMTTYPE=text/html:<div style="text-align:center"><span style="font-size:18px"><strong>Hiring Event</strong></span><br />\n<span style="font-size:14px"><strong>Association for Individual Development</strong></span><br />\n&nbsp\;Location: 309 New Indian Trail Court. Aurora\, IL 60506<br />\n<br />\n<strong>Date: May 07\, 2025\, 10:00am - 2:00pm</strong><br />\n<br />\nLooking for your next career opportunity? Don&rsquo\;t miss out!&nbsp\;<br />\n<br />\nWe are excited to meet talented individuals like YOU!<br />\n<br />\nLooking to start a new career\, or an internship\, or taking the next step in your journey\, we offer the perfect opportunity to connect with our team.&nbsp\;<br />\n<br />\nWhat&rsquo\;s In It For You?<br />\n<br />\n&nbsp\;Full-time &amp\; Part-time Jobs<br />\n<br />\n&nbsp\;Internship Opportunities<br />\n<br />\n&nbsp\;Career growth &amp\; development<br />\n<br />\nSecure your spot and let us know you&#39\;re coming:<br />\n<br />\nPreregister at the link on our website in the &quot\;Apply Now&quot\; section.<br />\n<br />\nCome prepared with your resume and any questions regarding opportunities available.<br />\n<br />\nWe can&#39\;t wait to meet you!</div>\n
LOCATION:Association for Individual Development 309 New Indian Trail Court. Aurora\, IL 60506
UID:e.1902.29512
SEQUENCE:3
DTSTAMP:20260422T102955Z
URL:http://business.bataviachamber.org/events/details/aid-hiring-event-05-07-2025-29512
END:VEVENT

END:VCALENDAR
