BEGIN:VCALENDAR
VERSION:2.0
PRODID:-//ChamberMaster//Event Calendar 2.0//EN
METHOD:PUBLISH
X-PUBLISHED-TTL:P3D
REFRESH-INTERVAL:P3D
CALSCALE:GREGORIAN
BEGIN:VEVENT
DTSTART:20250504T160000Z
DTEND:20250504T200000Z
X-MICROSOFT-CDO-ALLDAYEVENT:FALSE
SUMMARY:Adoption Event: Pet Supplies Plus – “Cinco De Meow”
DESCRIPTION:Come celebrate "Cinco De Meow" with us!\n\n\n\nThank you for being interested in adopting with Anderson Humane.\n\nWe believe that the human-animal connection has unlimited benefits for both people and animals. What better way to bring an animal into your life than adopting a pet in need of a home? We'll have dogs\, puppies\, cats and kittens at this event. We are excited to help you discover your furry companion and look forward to seeing you at our adoption event.\n\n\nAnderson Humane places 4\,000 homeless pets into loving homes and rehabilitates 3\,000 injured or orphaned wild animals every year. Through the support of our community\, we have found forever homes for more than 80\,000 pets since our founding more than 50 years ago.\n\nWe are passionate about caring for animals and about creating meaningful human-animal connections. We know that animals make us better people\, and we want as many people in our community as possible to experience that truth firsthand.
X-ALT-DESC;FMTTYPE=text/html:<div style="background:50% center / cover no-repeat rgb(248\, 247\, 247)\; border:0px\; padding:0px">\n<div style="background:transparent\; border:0px\; padding:0px">\n<div style="background:50% center / cover no-repeat rgb(248\, 247\, 247)\; border:0px\; padding:0px">\n<div style="background:transparent\; border:0px\; padding:0px"><span style="font-size:20px">Come celebrate &quot\;Cinco De Meow&quot\; with us!</span></div>\n</div>\n\n<div style="background:50% center / cover no-repeat rgb(248\, 247\, 247)\; border:0px\; padding:20px 40px">\n<h3>Thank you for being interested in adopting with Anderson Humane.</h3>\n\n<p>We believe that the human-animal connection has unlimited benefits for both people and animals. What better way to bring an animal into your life than adopting a pet in need of a home? We&rsquo\;ll have dogs\, puppies\, cats and kittens at this event. We are excited to help you discover your furry companion and look forward to seeing you at our adoption event.</p>\n\n<hr />\n<p><em>Anderson Humane places 4\,000 homeless pets into loving homes and rehabilitates 3\,000 injured or orphaned wild animals every year. Through the support of our community\, we have found forever homes for more than 80\,000 pets since our founding more than 50 years ago.</em></p>\n\n<p><em>We are passionate about caring for animals and about creating meaningful human-animal connections. We know that animals make us better people\, and we want as many people in our community as possible to experience that truth firsthand.</em></p>\n</div>\n</div>\n</div>\n
LOCATION:Pet Supplies Plus
UID:e.1902.29476
SEQUENCE:3
DTSTAMP:20260422T101929Z
URL:http://business.bataviachamber.org/events/details/adoption-event-pet-supplies-plus-cinco-de-meow-05-04-2025-29476
END:VEVENT

END:VCALENDAR
