BEGIN:VCALENDAR
VERSION:2.0
PRODID:-//ChamberMaster//Event Calendar 2.0//EN
METHOD:PUBLISH
X-PUBLISHED-TTL:P3D
REFRESH-INTERVAL:P3D
CALSCALE:GREGORIAN
BEGIN:VEVENT
DTSTART:20250322T160000Z
DTEND:20250323T200000Z
X-MICROSOFT-CDO-ALLDAYEVENT:FALSE
SUMMARY:Adoption Event: Bloomingdale Petco – Spring Fling
DESCRIPTION:We believe that the human-animal connection has unlimited benefits for both people and animals. What better way to bring an animal into your life than adopting a pet in need of a home? We'll have dogs\, puppies\, cats\, and kittens at this event. We are excited to help you discover your furry companion and look forward to seeing you at our adoption event.
X-ALT-DESC;FMTTYPE=text/html:<p>We believe that the human-animal connection has unlimited benefits for both people and animals. What better way to bring an animal into your life than adopting a pet in need of a home? We&rsquo\;ll have dogs\, puppies\, cats\, and kittens at this event. We are excited to help you discover your furry companion and look forward to seeing you at our adoption event.</p>\n\n<p>&nbsp\;</p>\n
LOCATION:412 W Army Trail Rd\, Bloomingdale\, IL 60108
UID:e.1902.29374
SEQUENCE:3
DTSTAMP:20260422T131602Z
URL:http://business.bataviachamber.org/events/details/adoption-event-bloomingdale-petco-spring-fling-29374
END:VEVENT

END:VCALENDAR
